BEGIN:VCALENDAR
VERSION:2.0
PRODID:-//NADI Bukit Raya Dalam - ECPv6.15.20//NONSGML v1.0//EN
CALSCALE:GREGORIAN
METHOD:PUBLISH
X-WR-CALNAME:NADI Bukit Raya Dalam
X-ORIGINAL-URL:https://bukitrayadalam.nadi.my
X-WR-CALDESC:Events for NADI Bukit Raya Dalam
REFRESH-INTERVAL;VALUE=DURATION:PT1H
X-Robots-Tag:noindex
X-PUBLISHED-TTL:PT1H
BEGIN:VTIMEZONE
TZID:Asia/Kuala_Lumpur
BEGIN:STANDARD
TZOFFSETFROM:+0800
TZOFFSETTO:+0800
TZNAME:+08
DTSTART:20240101T000000
END:STANDARD
END:VTIMEZONE
BEGIN:VEVENT
DTSTART;TZID=Asia/Kuala_Lumpur:20251229T150000
DTEND;TZID=Asia/Kuala_Lumpur:20251229T160000
DTSTAMP:20260426T042120
CREATED:20251203T034010Z
LAST-MODIFIED:20251203T034010Z
UID:5125-1767020400-1767024000@bukitrayadalam.nadi.my
SUMMARY:VOD-REVISION VIDEO 21
DESCRIPTION:Tarikh : 29/12/2025 \nMasa : 3.00 Petang – 4.00 Petang \nTempat : NADI Bukit Raya Dalam
URL:https://bukitrayadalam.nadi.my/event/vod-revision-video-21/
END:VEVENT
END:VCALENDAR