BEGIN:VCALENDAR
VERSION:2.0
PRODID:-//NADI Bukit Raya Dalam - ECPv6.15.20//NONSGML v1.0//EN
CALSCALE:GREGORIAN
METHOD:PUBLISH
X-WR-CALNAME:NADI Bukit Raya Dalam
X-ORIGINAL-URL:https://bukitrayadalam.nadi.my
X-WR-CALDESC:Events for NADI Bukit Raya Dalam
REFRESH-INTERVAL;VALUE=DURATION:PT1H
X-Robots-Tag:noindex
X-PUBLISHED-TTL:PT1H
BEGIN:VTIMEZONE
TZID:Asia/Kuala_Lumpur
BEGIN:STANDARD
TZOFFSETFROM:+0800
TZOFFSETTO:+0800
TZNAME:+08
DTSTART:20250101T000000
END:STANDARD
END:VTIMEZONE
BEGIN:VEVENT
DTSTART;TZID=Asia/Kuala_Lumpur:20260210T153000
DTEND;TZID=Asia/Kuala_Lumpur:20260210T163000
DTSTAMP:20260423T225552
CREATED:20260203T055151Z
LAST-MODIFIED:20260203T055151Z
UID:5226-1770737400-1770741000@bukitrayadalam.nadi.my
SUMMARY:Open Tuition Sejarah Ting 1-5
DESCRIPTION:Tarikh : 10/2/2026 \nMasa : 3.30 Petang – 4.30 Petang \nTempat : NADI Bukit Raya Dalam
URL:https://bukitrayadalam.nadi.my/event/open-tuition-sejarah-ting-1-5-3/
LOCATION:NADI Bukit Raya Dalam\, NADI Bukit Raya Dalam
END:VEVENT
END:VCALENDAR