BEGIN:VCALENDAR
VERSION:2.0
PRODID:-//NADI Bukit Raya Dalam - ECPv6.15.20//NONSGML v1.0//EN
CALSCALE:GREGORIAN
METHOD:PUBLISH
X-WR-CALNAME:NADI Bukit Raya Dalam
X-ORIGINAL-URL:https://bukitrayadalam.nadi.my
X-WR-CALDESC:Events for NADI Bukit Raya Dalam
REFRESH-INTERVAL;VALUE=DURATION:PT1H
X-Robots-Tag:noindex
X-PUBLISHED-TTL:PT1H
BEGIN:VTIMEZONE
TZID:Asia/Kuala_Lumpur
BEGIN:STANDARD
TZOFFSETFROM:+0800
TZOFFSETTO:+0800
TZNAME:+08
DTSTART:20250101T000000
END:STANDARD
END:VTIMEZONE
BEGIN:VEVENT
DTSTART;TZID=Asia/Kuala_Lumpur:20260217T093000
DTEND;TZID=Asia/Kuala_Lumpur:20260217T103000
DTSTAMP:20260424T015927
CREATED:20260203T055603Z
LAST-MODIFIED:20260203T055603Z
UID:5230-1771320600-1771324200@bukitrayadalam.nadi.my
SUMMARY:Mahir Masak
DESCRIPTION:Tarikh : 17/2/2026 \nMasa : 9.30 Pagi – 10.30 Pagi \nTempat : NADI Bukit Raya Dalam
URL:https://bukitrayadalam.nadi.my/event/mahir-masak/
LOCATION:NADI Bukit Raya Dalam\, NADI Bukit Raya Dalam
END:VEVENT
END:VCALENDAR