BEGIN:VCALENDAR
VERSION:2.0
PRODID:-//NADI Bukit Raya Dalam - ECPv6.15.20//NONSGML v1.0//EN
CALSCALE:GREGORIAN
METHOD:PUBLISH
X-WR-CALNAME:NADI Bukit Raya Dalam
X-ORIGINAL-URL:https://bukitrayadalam.nadi.my
X-WR-CALDESC:Events for NADI Bukit Raya Dalam
REFRESH-INTERVAL;VALUE=DURATION:PT1H
X-Robots-Tag:noindex
X-PUBLISHED-TTL:PT1H
BEGIN:VTIMEZONE
TZID:Asia/Kuala_Lumpur
BEGIN:STANDARD
TZOFFSETFROM:+0800
TZOFFSETTO:+0800
TZNAME:+08
DTSTART:20250101T000000
END:STANDARD
END:VTIMEZONE
BEGIN:VEVENT
DTSTART;TZID=Asia/Kuala_Lumpur:20260302T080000
DTEND;TZID=Asia/Kuala_Lumpur:20260302T170000
DTSTAMP:20260423T195727
CREATED:20260302T085008Z
LAST-MODIFIED:20260302T085008Z
UID:5287-1772438400-1772470800@bukitrayadalam.nadi.my
SUMMARY:NADI KIDVENTURE RAKAMAN WEBINAR & VIDEO PEMBELAJARAN: PEMASARAN 2
DESCRIPTION:
URL:https://bukitrayadalam.nadi.my/event/nadi-kidventure-rakaman-webinar-video-pembelajaran-pemasaran-2/
END:VEVENT
BEGIN:VEVENT
DTSTART;TZID=Asia/Kuala_Lumpur:20260302T080000
DTEND;TZID=Asia/Kuala_Lumpur:20260302T170000
DTSTAMP:20260423T195727
CREATED:20260302T085037Z
LAST-MODIFIED:20260302T085037Z
UID:5289-1772438400-1772470800@bukitrayadalam.nadi.my
SUMMARY:NADI Care : SIHAT RAMADAN : Menu  Moreh Tak Rosak Diet | S108
DESCRIPTION:
URL:https://bukitrayadalam.nadi.my/event/nadi-care-sihat-ramadan-menu-moreh-tak-rosak-diet-s108-2/
END:VEVENT
BEGIN:VEVENT
DTSTART;TZID=Asia/Kuala_Lumpur:20260302T093000
DTEND;TZID=Asia/Kuala_Lumpur:20260302T103000
DTSTAMP:20260423T195727
CREATED:20260302T084652Z
LAST-MODIFIED:20260302T084703Z
UID:5285-1772443800-1772447400@bukitrayadalam.nadi.my
SUMMARY:NADI Care : SIHAT RAMADAN : Menu  Moreh Tak Rosak Diet | S108
DESCRIPTION:
URL:https://bukitrayadalam.nadi.my/event/nadi-care-sihat-ramadan-menu-moreh-tak-rosak-diet-s108/
END:VEVENT
BEGIN:VEVENT
DTSTART;TZID=Asia/Kuala_Lumpur:20260302T143000
DTEND;TZID=Asia/Kuala_Lumpur:20260302T173000
DTSTAMP:20260423T195727
CREATED:20260302T084538Z
LAST-MODIFIED:20260302T084538Z
UID:5283-1772461800-1772472600@bukitrayadalam.nadi.my
SUMMARY:VOD SESI 31
DESCRIPTION:
URL:https://bukitrayadalam.nadi.my/event/vod-sesi-31/
END:VEVENT
END:VCALENDAR