BEGIN:VCALENDAR
VERSION:2.0
PRODID:-//NADI Bukit Raya Dalam - ECPv6.15.20//NONSGML v1.0//EN
CALSCALE:GREGORIAN
METHOD:PUBLISH
X-WR-CALNAME:NADI Bukit Raya Dalam
X-ORIGINAL-URL:https://bukitrayadalam.nadi.my
X-WR-CALDESC:Events for NADI Bukit Raya Dalam
REFRESH-INTERVAL;VALUE=DURATION:PT1H
X-Robots-Tag:noindex
X-PUBLISHED-TTL:PT1H
BEGIN:VTIMEZONE
TZID:Asia/Kuala_Lumpur
BEGIN:STANDARD
TZOFFSETFROM:+0800
TZOFFSETTO:+0800
TZNAME:+08
DTSTART:20250101T000000
END:STANDARD
END:VTIMEZONE
BEGIN:VEVENT
DTSTART;TZID=Asia/Kuala_Lumpur:20260304T090000
DTEND;TZID=Asia/Kuala_Lumpur:20260304T170000
DTSTAMP:20260424T015922
CREATED:20260304T014327Z
LAST-MODIFIED:20260304T014432Z
UID:5293-1772614800-1772643600@bukitrayadalam.nadi.my
SUMMARY:NADI CARE : SIHAT RAMADAN : 3 Mitos ‘Fat Loss’ Bulan Puasa | S109
DESCRIPTION:
URL:https://bukitrayadalam.nadi.my/event/nadi-care-sihat-ramadan-3-mitos-fat-loss-bulan-puasa-s109/
END:VEVENT
END:VCALENDAR