BEGIN:VCALENDAR
VERSION:2.0
PRODID:-//NADI Bukit Raya Dalam - ECPv6.15.20//NONSGML v1.0//EN
CALSCALE:GREGORIAN
METHOD:PUBLISH
X-WR-CALNAME:NADI Bukit Raya Dalam
X-ORIGINAL-URL:https://bukitrayadalam.nadi.my
X-WR-CALDESC:Events for NADI Bukit Raya Dalam
REFRESH-INTERVAL;VALUE=DURATION:PT1H
X-Robots-Tag:noindex
X-PUBLISHED-TTL:PT1H
BEGIN:VTIMEZONE
TZID:Asia/Kuala_Lumpur
BEGIN:STANDARD
TZOFFSETFROM:+0800
TZOFFSETTO:+0800
TZNAME:+08
DTSTART:20250101T000000
END:STANDARD
END:VTIMEZONE
BEGIN:VEVENT
DTSTART;TZID=Asia/Kuala_Lumpur:20260306T080000
DTEND;TZID=Asia/Kuala_Lumpur:20260306T170000
DTSTAMP:20260423T070938
CREATED:20260304T060542Z
LAST-MODIFIED:20260304T060542Z
UID:5305-1772784000-1772816400@bukitrayadalam.nadi.my
SUMMARY:Peraturan\, Penalti & Fair Play Dalam MLBB
DESCRIPTION:
URL:https://bukitrayadalam.nadi.my/event/peraturan-penalti-fair-play-dalam-mlbb/
END:VEVENT
BEGIN:VEVENT
DTSTART;TZID=Asia/Kuala_Lumpur:20260306T090000
DTEND;TZID=Asia/Kuala_Lumpur:20260306T170000
DTSTAMP:20260423T070938
CREATED:20260306T023126Z
LAST-MODIFIED:20260306T023126Z
UID:5315-1772787600-1772816400@bukitrayadalam.nadi.my
SUMMARY:NADI-CARE: Buka Puasa Dalam Jem?  Awas Bahaya "Microsleep"! 🚗💤 | S111
DESCRIPTION:
URL:https://bukitrayadalam.nadi.my/event/nadi-care-buka-puasa-dalam-jem-awas-bahaya-microsleep-%f0%9f%9a%97%f0%9f%92%a4-s111/
END:VEVENT
BEGIN:VEVENT
DTSTART;TZID=Asia/Kuala_Lumpur:20260306T090000
DTEND;TZID=Asia/Kuala_Lumpur:20260306T170000
DTSTAMP:20260423T070938
CREATED:20260306T023149Z
LAST-MODIFIED:20260306T023149Z
UID:5317-1772787600-1772816400@bukitrayadalam.nadi.my
SUMMARY:SIHAT RAMADAN : Reset Gaya Hidup  Sihat Selamanya | W130
DESCRIPTION:
URL:https://bukitrayadalam.nadi.my/event/sihat-ramadan-reset-gaya-hidup-sihat-selamanya-w130/
END:VEVENT
END:VCALENDAR