BEGIN:VCALENDAR
VERSION:2.0
PRODID:-//NADI Bukit Raya Dalam - ECPv6.15.20//NONSGML v1.0//EN
CALSCALE:GREGORIAN
METHOD:PUBLISH
X-WR-CALNAME:NADI Bukit Raya Dalam
X-ORIGINAL-URL:https://bukitrayadalam.nadi.my
X-WR-CALDESC:Events for NADI Bukit Raya Dalam
REFRESH-INTERVAL;VALUE=DURATION:PT1H
X-Robots-Tag:noindex
X-PUBLISHED-TTL:PT1H
BEGIN:VTIMEZONE
TZID:Asia/Kuala_Lumpur
BEGIN:STANDARD
TZOFFSETFROM:+0800
TZOFFSETTO:+0800
TZNAME:+08
DTSTART:20250101T000000
END:STANDARD
END:VTIMEZONE
BEGIN:VEVENT
DTSTART;TZID=Asia/Kuala_Lumpur:20260308T080000
DTEND;TZID=Asia/Kuala_Lumpur:20260308T170000
DTSTAMP:20260423T070908
CREATED:20260304T060610Z
LAST-MODIFIED:20260304T060610Z
UID:5309-1772956800-1772989200@bukitrayadalam.nadi.my
SUMMARY:Peraturan\, Penalti & Fair Play Dalam MLBB
DESCRIPTION:
URL:https://bukitrayadalam.nadi.my/event/peraturan-penalti-fair-play-dalam-mlbb-3/
END:VEVENT
BEGIN:VEVENT
DTSTART;TZID=Asia/Kuala_Lumpur:20260308T090000
DTEND;TZID=Asia/Kuala_Lumpur:20260308T170000
DTSTAMP:20260423T070908
CREATED:20260308T010021Z
LAST-MODIFIED:20260308T010021Z
UID:5321-1772960400-1772989200@bukitrayadalam.nadi.my
SUMMARY:NADI KIDVENTURE RAKAMAN WEBINAR & VIDEO PEMBELAJARAN: PELAN PERNIAGAAN MINI 1
DESCRIPTION:
URL:https://bukitrayadalam.nadi.my/event/nadi-kidventure-rakaman-webinar-video-pembelajaran-pelan-perniagaan-mini-1/
END:VEVENT
BEGIN:VEVENT
DTSTART;TZID=Asia/Kuala_Lumpur:20260308T090000
DTEND;TZID=Asia/Kuala_Lumpur:20260308T170000
DTSTAMP:20260423T070908
CREATED:20260308T010044Z
LAST-MODIFIED:20260308T010044Z
UID:5323-1772960400-1772989200@bukitrayadalam.nadi.my
SUMMARY:DILEA : ENGLISH PROFICIENCY LESSON 26
DESCRIPTION:
URL:https://bukitrayadalam.nadi.my/event/dilea-english-proficiency-lesson-26/
END:VEVENT
BEGIN:VEVENT
DTSTART;TZID=Asia/Kuala_Lumpur:20260308T090000
DTEND;TZID=Asia/Kuala_Lumpur:20260308T170000
DTSTAMP:20260423T070908
CREATED:20260308T010111Z
LAST-MODIFIED:20260308T010111Z
UID:5325-1772960400-1772989200@bukitrayadalam.nadi.my
SUMMARY:DILEA : OPEN TUITION: SEJARAH
DESCRIPTION:
URL:https://bukitrayadalam.nadi.my/event/dilea-open-tuition-sejarah/
END:VEVENT
END:VCALENDAR