BEGIN:VCALENDAR
VERSION:2.0
PRODID:-//NADI Bukit Raya Dalam - ECPv6.15.20//NONSGML v1.0//EN
CALSCALE:GREGORIAN
METHOD:PUBLISH
X-WR-CALNAME:NADI Bukit Raya Dalam
X-ORIGINAL-URL:https://bukitrayadalam.nadi.my
X-WR-CALDESC:Events for NADI Bukit Raya Dalam
REFRESH-INTERVAL;VALUE=DURATION:PT1H
X-Robots-Tag:noindex
X-PUBLISHED-TTL:PT1H
BEGIN:VTIMEZONE
TZID:Asia/Kuala_Lumpur
BEGIN:STANDARD
TZOFFSETFROM:+0800
TZOFFSETTO:+0800
TZNAME:+08
DTSTART:20250101T000000
END:STANDARD
END:VTIMEZONE
BEGIN:VEVENT
DTSTART;TZID=Asia/Kuala_Lumpur:20260414T090000
DTEND;TZID=Asia/Kuala_Lumpur:20260414T180000
DTSTAMP:20260422T041501
CREATED:20260407T025924Z
LAST-MODIFIED:20260407T030505Z
UID:5439-1776157200-1776189600@bukitrayadalam.nadi.my
SUMMARY:NADI DILEA : VOD REVISION VIDEO 37
DESCRIPTION:
URL:https://bukitrayadalam.nadi.my/event/nadi-dilea-vod-revision-video-37/
END:VEVENT
BEGIN:VEVENT
DTSTART;TZID=Asia/Kuala_Lumpur:20260414T090000
DTEND;TZID=Asia/Kuala_Lumpur:20260414T180000
DTSTAMP:20260422T041501
CREATED:20260407T040959Z
LAST-MODIFIED:20260407T040959Z
UID:5495-1776157200-1776189600@bukitrayadalam.nadi.my
SUMMARY:NADIPRENEUR : RAKAMAN WEBINAR PEMASARAN
DESCRIPTION:
URL:https://bukitrayadalam.nadi.my/event/nadipreneur-rakaman-webinar-pemasaran/
END:VEVENT
END:VCALENDAR