BEGIN:VCALENDAR
VERSION:2.0
PRODID:-//NADI Bukit Raya Dalam - ECPv6.15.20//NONSGML v1.0//EN
CALSCALE:GREGORIAN
METHOD:PUBLISH
X-WR-CALNAME:NADI Bukit Raya Dalam
X-ORIGINAL-URL:https://bukitrayadalam.nadi.my
X-WR-CALDESC:Events for NADI Bukit Raya Dalam
REFRESH-INTERVAL;VALUE=DURATION:PT1H
X-Robots-Tag:noindex
X-PUBLISHED-TTL:PT1H
BEGIN:VTIMEZONE
TZID:Asia/Kuala_Lumpur
BEGIN:STANDARD
TZOFFSETFROM:+0800
TZOFFSETTO:+0800
TZNAME:+08
DTSTART:20250101T000000
END:STANDARD
END:VTIMEZONE
BEGIN:VEVENT
DTSTART;TZID=Asia/Kuala_Lumpur:20260423T090000
DTEND;TZID=Asia/Kuala_Lumpur:20260423T180000
DTSTAMP:20260422T065456
CREATED:20260407T035231Z
LAST-MODIFIED:20260407T035231Z
UID:5473-1776934800-1776967200@bukitrayadalam.nadi.my
SUMMARY:NADI DILEA : EP LESSON 29
DESCRIPTION:
URL:https://bukitrayadalam.nadi.my/event/nadi-dilea-ep-lesson-29-2/
END:VEVENT
BEGIN:VEVENT
DTSTART;TZID=Asia/Kuala_Lumpur:20260423T090000
DTEND;TZID=Asia/Kuala_Lumpur:20260423T180000
DTSTAMP:20260422T065456
CREATED:20260407T041235Z
LAST-MODIFIED:20260407T041235Z
UID:5501-1776934800-1776967200@bukitrayadalam.nadi.my
SUMMARY:NADIPRENEUR : LIVE WEBINAR PERANCANGAN KEWANGAN
DESCRIPTION:
URL:https://bukitrayadalam.nadi.my/event/nadipreneur-live-webinar-perancangan-kewangan/
END:VEVENT
END:VCALENDAR