BEGIN:VCALENDAR
VERSION:2.0
PRODID:-//NADI Bukit Raya Dalam - ECPv6.15.20//NONSGML v1.0//EN
CALSCALE:GREGORIAN
METHOD:PUBLISH
X-WR-CALNAME:NADI Bukit Raya Dalam
X-ORIGINAL-URL:https://bukitrayadalam.nadi.my
X-WR-CALDESC:Events for NADI Bukit Raya Dalam
REFRESH-INTERVAL;VALUE=DURATION:PT1H
X-Robots-Tag:noindex
X-PUBLISHED-TTL:PT1H
BEGIN:VTIMEZONE
TZID:Asia/Kuala_Lumpur
BEGIN:STANDARD
TZOFFSETFROM:+0800
TZOFFSETTO:+0800
TZNAME:+08
DTSTART:20250101T000000
END:STANDARD
END:VTIMEZONE
BEGIN:VEVENT
DTSTART;TZID=Asia/Kuala_Lumpur:20260425T090000
DTEND;TZID=Asia/Kuala_Lumpur:20260425T180000
DTSTAMP:20260422T071533
CREATED:20260407T035448Z
LAST-MODIFIED:20260407T035448Z
UID:5478-1777107600-1777140000@bukitrayadalam.nadi.my
SUMMARY:NADI DILEA : WEBINAR BERKALA EXPRESSION SERIES SAJAK
DESCRIPTION:
URL:https://bukitrayadalam.nadi.my/event/nadi-dilea-webinar-berkala-expression-series-sajak/
END:VEVENT
BEGIN:VEVENT
DTSTART;TZID=Asia/Kuala_Lumpur:20260425T090000
DTEND;TZID=Asia/Kuala_Lumpur:20260425T180000
DTSTAMP:20260422T071533
CREATED:20260407T042144Z
LAST-MODIFIED:20260407T042144Z
UID:5516-1777107600-1777140000@bukitrayadalam.nadi.my
SUMMARY:NADI KIDSVENTURE : WEBINAR ATAS TALIAN - PEMASARAN 2
DESCRIPTION:
URL:https://bukitrayadalam.nadi.my/event/nadi-kidsventure-webinar-atas-talian-pemasaran-2/
END:VEVENT
END:VCALENDAR