BEGIN:VCALENDAR
VERSION:2.0
PRODID:-//NADI Bukit Raya Dalam - ECPv6.15.20//NONSGML v1.0//EN
CALSCALE:GREGORIAN
METHOD:PUBLISH
X-WR-CALNAME:NADI Bukit Raya Dalam
X-ORIGINAL-URL:https://bukitrayadalam.nadi.my
X-WR-CALDESC:Events for NADI Bukit Raya Dalam
REFRESH-INTERVAL;VALUE=DURATION:PT1H
X-Robots-Tag:noindex
X-PUBLISHED-TTL:PT1H
BEGIN:VTIMEZONE
TZID:Asia/Kuala_Lumpur
BEGIN:STANDARD
TZOFFSETFROM:+0800
TZOFFSETTO:+0800
TZNAME:+08
DTSTART:20250101T000000
END:STANDARD
END:VTIMEZONE
BEGIN:VEVENT
DTSTART;TZID=Asia/Kuala_Lumpur:20260428T090000
DTEND;TZID=Asia/Kuala_Lumpur:20260428T180000
DTSTAMP:20260424T070654
CREATED:20260407T040412Z
LAST-MODIFIED:20260407T040412Z
UID:5483-1777366800-1777399200@bukitrayadalam.nadi.my
SUMMARY:NADI DILEA : VOD REVISION VIDEO 39
DESCRIPTION:
URL:https://bukitrayadalam.nadi.my/event/nadi-dilea-vod-revision-video-39-2/
END:VEVENT
BEGIN:VEVENT
DTSTART;TZID=Asia/Kuala_Lumpur:20260428T090000
DTEND;TZID=Asia/Kuala_Lumpur:20260428T180000
DTSTAMP:20260424T070654
CREATED:20260407T041329Z
LAST-MODIFIED:20260407T041329Z
UID:5503-1777366800-1777399200@bukitrayadalam.nadi.my
SUMMARY:NADIPRENEUR : RAKAMAN WEBINAR PERANCANGAN KEWANGAN
DESCRIPTION:
URL:https://bukitrayadalam.nadi.my/event/nadipreneur-rakaman-webinar-perancangan-kewangan/
END:VEVENT
END:VCALENDAR