BEGIN:VCALENDAR
VERSION:2.0
PRODID:-//NADI Bukit Raya Dalam - ECPv6.15.20//NONSGML v1.0//EN
CALSCALE:GREGORIAN
METHOD:PUBLISH
X-WR-CALNAME:NADI Bukit Raya Dalam
X-ORIGINAL-URL:https://bukitrayadalam.nadi.my
X-WR-CALDESC:Events for NADI Bukit Raya Dalam
REFRESH-INTERVAL;VALUE=DURATION:PT1H
X-Robots-Tag:noindex
X-PUBLISHED-TTL:PT1H
BEGIN:VTIMEZONE
TZID:Asia/Kuala_Lumpur
BEGIN:STANDARD
TZOFFSETFROM:+0800
TZOFFSETTO:+0800
TZNAME:+08
DTSTART:20250101T000000
END:STANDARD
END:VTIMEZONE
BEGIN:VEVENT
DTSTART;TZID=Asia/Kuala_Lumpur:20260411T090000
DTEND;TZID=Asia/Kuala_Lumpur:20260411T180000
DTSTAMP:20260425T115438
CREATED:20260407T041647Z
LAST-MODIFIED:20260407T041647Z
UID:5507-1775898000-1775930400@bukitrayadalam.nadi.my
SUMMARY:NADI KIDSVENTURE : WEBINAR ATAS TALIAN - OPERASI PERNIAGAAN
DESCRIPTION:
URL:https://bukitrayadalam.nadi.my/event/nadi-kidsventure-webinar-atas-talian-operasi-perniagaan/
END:VEVENT
BEGIN:VEVENT
DTSTART;TZID=Asia/Kuala_Lumpur:20260411T090000
DTEND;TZID=Asia/Kuala_Lumpur:20260411T180000
DTSTAMP:20260425T115438
CREATED:20260407T025519Z
LAST-MODIFIED:20260407T025519Z
UID:5433-1775898000-1775930400@bukitrayadalam.nadi.my
SUMMARY:NADI DILEA : WEBINAR BERKALA BM EDISI 5
DESCRIPTION:
URL:https://bukitrayadalam.nadi.my/event/nadi-dilea-webinar-berkala-bm-edisi-5/
END:VEVENT
BEGIN:VEVENT
DTSTART;TZID=Asia/Kuala_Lumpur:20260410T090000
DTEND;TZID=Asia/Kuala_Lumpur:20260410T180000
DTSTAMP:20260425T115438
CREATED:20260407T025218Z
LAST-MODIFIED:20260407T025218Z
UID:5430-1775811600-1775844000@bukitrayadalam.nadi.my
SUMMARY:NADI DILEA : GUIDANCE TUITION BI TING 4
DESCRIPTION:
URL:https://bukitrayadalam.nadi.my/event/nadi-dilea-guidance-tuition-bi-ting-4/
END:VEVENT
BEGIN:VEVENT
DTSTART;TZID=Asia/Kuala_Lumpur:20260409T090000
DTEND;TZID=Asia/Kuala_Lumpur:20260409T180000
DTSTAMP:20260425T115438
CREATED:20260407T040904Z
LAST-MODIFIED:20260407T040904Z
UID:5493-1775725200-1775757600@bukitrayadalam.nadi.my
SUMMARY:NADIPRENEUR : LIVE WEBINAR PEMASARAN
DESCRIPTION:
URL:https://bukitrayadalam.nadi.my/event/nadipreneur-live-webinar-pemasaran/
END:VEVENT
BEGIN:VEVENT
DTSTART;TZID=Asia/Kuala_Lumpur:20260409T090000
DTEND;TZID=Asia/Kuala_Lumpur:20260409T170000
DTSTAMP:20260425T115438
CREATED:20260405T041542Z
LAST-MODIFIED:20260405T041542Z
UID:5427-1775725200-1775754000@bukitrayadalam.nadi.my
SUMMARY:NADI DILEA : GUIDANCE TUITION BI \, SJ FORM 4
DESCRIPTION:
URL:https://bukitrayadalam.nadi.my/event/nadi-dilea-guidance-tuition-bi-sj-form-4/
END:VEVENT
BEGIN:VEVENT
DTSTART;TZID=Asia/Kuala_Lumpur:20260408T090000
DTEND;TZID=Asia/Kuala_Lumpur:20260408T180000
DTSTAMP:20260425T115438
CREATED:20260405T041504Z
LAST-MODIFIED:20260405T041504Z
UID:5425-1775638800-1775671200@bukitrayadalam.nadi.my
SUMMARY:NADI DILEA : EP LESSON 28
DESCRIPTION:
URL:https://bukitrayadalam.nadi.my/event/nadi-dilea-ep-lesson-28-2/
END:VEVENT
BEGIN:VEVENT
DTSTART;TZID=Asia/Kuala_Lumpur:20260407T090000
DTEND;TZID=Asia/Kuala_Lumpur:20260407T180000
DTSTAMP:20260425T115438
CREATED:20260407T040814Z
LAST-MODIFIED:20260407T040814Z
UID:5491-1775552400-1775584800@bukitrayadalam.nadi.my
SUMMARY:NADIPRENEUR : VIDEO PRA LATIHAN PEMASARAN
DESCRIPTION:
URL:https://bukitrayadalam.nadi.my/event/nadipreneur-video-pra-latihan-pemasaran/
END:VEVENT
BEGIN:VEVENT
DTSTART;TZID=Asia/Kuala_Lumpur:20260407T080000
DTEND;TZID=Asia/Kuala_Lumpur:20260407T180000
DTSTAMP:20260425T115438
CREATED:20260405T020234Z
LAST-MODIFIED:20260407T030612Z
UID:5421-1775548800-1775584800@bukitrayadalam.nadi.my
SUMMARY:NADI DILEA : OPEN TUITION BI TING 1-5
DESCRIPTION:
URL:https://bukitrayadalam.nadi.my/event/nadi-dilea-hari-kokurikulum/
END:VEVENT
BEGIN:VEVENT
DTSTART;TZID=Asia/Kuala_Lumpur:20260406T090000
DTEND;TZID=Asia/Kuala_Lumpur:20260406T180000
DTSTAMP:20260425T115438
CREATED:20260405T015816Z
LAST-MODIFIED:20260405T015926Z
UID:5413-1775466000-1775498400@bukitrayadalam.nadi.my
SUMMARY:NADI DILEA : VOD REVISION VIDEO 36
DESCRIPTION:
URL:https://bukitrayadalam.nadi.my/event/nadi-dilea-vod-revision-video-35/
END:VEVENT
BEGIN:VEVENT
DTSTART;TZID=Asia/Kuala_Lumpur:20260406T080000
DTEND;TZID=Asia/Kuala_Lumpur:20260406T180000
DTSTAMP:20260425T115438
CREATED:20260405T020133Z
LAST-MODIFIED:20260405T020133Z
UID:5419-1775462400-1775498400@bukitrayadalam.nadi.my
SUMMARY:NADI DILEA : EP LESSON 28
DESCRIPTION:
URL:https://bukitrayadalam.nadi.my/event/nadi-dilea-ep-lesson-28/
END:VEVENT
BEGIN:VEVENT
DTSTART;TZID=Asia/Kuala_Lumpur:20260405T080000
DTEND;TZID=Asia/Kuala_Lumpur:20260405T180000
DTSTAMP:20260425T115438
CREATED:20260405T020029Z
LAST-MODIFIED:20260405T020029Z
UID:5417-1775376000-1775412000@bukitrayadalam.nadi.my
SUMMARY:NADI DILEA : GUIDANCE TUITION BM AND MT FORM 4
DESCRIPTION:
URL:https://bukitrayadalam.nadi.my/event/nadi-dilea-guidance-tuition-bm-and-mt-form-4/
END:VEVENT
BEGIN:VEVENT
DTSTART;TZID=Asia/Kuala_Lumpur:20260331T093000
DTEND;TZID=Asia/Kuala_Lumpur:20260331T180000
DTSTAMP:20260425T115438
CREATED:20260331T020224Z
LAST-MODIFIED:20260331T030610Z
UID:5397-1774949400-1774980000@bukitrayadalam.nadi.my
SUMMARY:NADI MAHIR : PERTANIAN
DESCRIPTION:
URL:https://bukitrayadalam.nadi.my/event/nadi-mahir-pertanian/
END:VEVENT
BEGIN:VEVENT
DTSTART;TZID=Asia/Kuala_Lumpur:20260331T093000
DTEND;TZID=Asia/Kuala_Lumpur:20260331T110000
DTSTAMP:20260425T115438
CREATED:20260331T020152Z
LAST-MODIFIED:20260331T020152Z
UID:5395-1774949400-1774954800@bukitrayadalam.nadi.my
SUMMARY:NADI MAHIR :  MAHIR JAHIT
DESCRIPTION:
URL:https://bukitrayadalam.nadi.my/event/nadi-mahir-mahir-jahit/
END:VEVENT
BEGIN:VEVENT
DTSTART;TZID=Asia/Kuala_Lumpur:20260331T090000
DTEND;TZID=Asia/Kuala_Lumpur:20260331T170000
DTSTAMP:20260425T115438
CREATED:20260331T011228Z
LAST-MODIFIED:20260331T011228Z
UID:5393-1774947600-1774976400@bukitrayadalam.nadi.my
SUMMARY:NADI CARE : Kereta boleh servis ikut jadual\, kenapa badan tunggu rosak baru nak baiki? | S117
DESCRIPTION:
URL:https://bukitrayadalam.nadi.my/event/nadi-care-kereta-boleh-servis-ikut-jadual-kenapa-badan-tunggu-rosak-baru-nak-baiki-s117/
END:VEVENT
BEGIN:VEVENT
DTSTART;TZID=Asia/Kuala_Lumpur:20260314T090000
DTEND;TZID=Asia/Kuala_Lumpur:20260314T170000
DTSTAMP:20260425T115438
CREATED:20260312T040102Z
LAST-MODIFIED:20260312T040102Z
UID:5390-1773478800-1773507600@bukitrayadalam.nadi.my
SUMMARY:DILEA : WEBINAR BERKALA MATEMATIK – EDISI 5
DESCRIPTION:
URL:https://bukitrayadalam.nadi.my/event/dilea-webinar-berkala-matematik-edisi-5/
END:VEVENT
BEGIN:VEVENT
DTSTART;TZID=Asia/Kuala_Lumpur:20260314T090000
DTEND;TZID=Asia/Kuala_Lumpur:20260314T170000
DTSTAMP:20260425T115438
CREATED:20260312T013521Z
LAST-MODIFIED:20260312T013521Z
UID:5387-1773478800-1773507600@bukitrayadalam.nadi.my
SUMMARY:NADI-CARE: Senaman Untuk BMI Tinggi | Permulaan Selamat & Mudah Untuk Badan Lebih Kuat | E081
DESCRIPTION:
URL:https://bukitrayadalam.nadi.my/event/nadi-care-senaman-untuk-bmi-tinggi-permulaan-selamat-mudah-untuk-badan-lebih-kuat-e081/
END:VEVENT
BEGIN:VEVENT
DTSTART;TZID=Asia/Kuala_Lumpur:20260314T080000
DTEND;TZID=Asia/Kuala_Lumpur:20260314T170000
DTSTAMP:20260425T115438
CREATED:20260312T013312Z
LAST-MODIFIED:20260312T013506Z
UID:5385-1773475200-1773507600@bukitrayadalam.nadi.my
SUMMARY:BAZAR RAYA NADI : DI NADI BUKIT RAYA DALAM
DESCRIPTION:
URL:https://bukitrayadalam.nadi.my/event/bazar-raya-nadi-di-nadi-bukit-raya-dalam/
END:VEVENT
BEGIN:VEVENT
DTSTART;TZID=Asia/Kuala_Lumpur:20260313T090000
DTEND;TZID=Asia/Kuala_Lumpur:20260313T170000
DTSTAMP:20260425T115438
CREATED:20260312T012822Z
LAST-MODIFIED:20260312T012822Z
UID:5383-1773392400-1773421200@bukitrayadalam.nadi.my
SUMMARY:NADI KEUSAHAWANAN : PENCARIAN IKON USAHAWAN NADI 2026 Video pra latihan : Perancangan Kewangan
DESCRIPTION:
URL:https://bukitrayadalam.nadi.my/event/nadi-keusahawanan-pencarian-ikon-usahawan-nadi-2026-video-pra-latihan-perancangan-kewangan/
END:VEVENT
BEGIN:VEVENT
DTSTART;TZID=Asia/Kuala_Lumpur:20260313T090000
DTEND;TZID=Asia/Kuala_Lumpur:20260313T170000
DTSTAMP:20260425T115438
CREATED:20260312T012741Z
LAST-MODIFIED:20260312T012741Z
UID:5381-1773392400-1773421200@bukitrayadalam.nadi.my
SUMMARY:NADI CARE : Kolesterol Tinggi Bukan Masalah Orang Tua Saja  – Ini Cara Turunkan! | W115
DESCRIPTION:
URL:https://bukitrayadalam.nadi.my/event/nadi-care-kolesterol-tinggi-bukan-masalah-orang-tua-saja-ini-cara-turunkan-w115/
END:VEVENT
BEGIN:VEVENT
DTSTART;TZID=Asia/Kuala_Lumpur:20260312T090000
DTEND;TZID=Asia/Kuala_Lumpur:20260312T170000
DTSTAMP:20260425T115438
CREATED:20260312T012705Z
LAST-MODIFIED:20260312T012705Z
UID:5379-1773306000-1773334800@bukitrayadalam.nadi.my
SUMMARY:MAHIR : Kelas Mahir Pertanian
DESCRIPTION:
URL:https://bukitrayadalam.nadi.my/event/mahir-kelas-mahir-pertanian/
END:VEVENT
BEGIN:VEVENT
DTSTART;TZID=Asia/Kuala_Lumpur:20260312T090000
DTEND;TZID=Asia/Kuala_Lumpur:20260312T170000
DTSTAMP:20260425T115438
CREATED:20260312T012636Z
LAST-MODIFIED:20260312T012636Z
UID:5377-1773306000-1773334800@bukitrayadalam.nadi.my
SUMMARY:MAHIR : Kelas Mahir Jahit
DESCRIPTION:
URL:https://bukitrayadalam.nadi.my/event/mahir-kelas-mahir-jahit/
END:VEVENT
BEGIN:VEVENT
DTSTART;TZID=Asia/Kuala_Lumpur:20260312T090000
DTEND;TZID=Asia/Kuala_Lumpur:20260312T170000
DTSTAMP:20260425T115438
CREATED:20260312T012536Z
LAST-MODIFIED:20260312T012536Z
UID:5375-1773306000-1773334800@bukitrayadalam.nadi.my
SUMMARY:DILEA : Open Tuition Sejarah
DESCRIPTION:
URL:https://bukitrayadalam.nadi.my/event/dilea-open-tuition-sejarah-3/
END:VEVENT
BEGIN:VEVENT
DTSTART;TZID=Asia/Kuala_Lumpur:20260310T113000
DTEND;TZID=Asia/Kuala_Lumpur:20260310T123000
DTSTAMP:20260425T115438
CREATED:20260310T012326Z
LAST-MODIFIED:20260310T012326Z
UID:5348-1773142200-1773145800@bukitrayadalam.nadi.my
SUMMARY:RAMADAN@NADI : Mahir Jahit – Alteration: Besar Jadi Muat\,  Kecil Jadi Selesa
DESCRIPTION:
URL:https://bukitrayadalam.nadi.my/event/ramadannadi-mahir-jahit-alteration-besar-jadi-muat-kecil-jadi-selesa-2/
END:VEVENT
BEGIN:VEVENT
DTSTART;TZID=Asia/Kuala_Lumpur:20260310T090000
DTEND;TZID=Asia/Kuala_Lumpur:20260310T170000
DTSTAMP:20260425T115438
CREATED:20260309T070332Z
LAST-MODIFIED:20260309T070332Z
UID:5344-1773133200-1773162000@bukitrayadalam.nadi.my
SUMMARY:NADI CARE : Sihat Ramadan :  Webinar Kelestarian Amalan Sihat
DESCRIPTION:
URL:https://bukitrayadalam.nadi.my/event/nadi-care-sihat-ramadan-webinar-kelestarian-amalan-sihat/
END:VEVENT
BEGIN:VEVENT
DTSTART;TZID=Asia/Kuala_Lumpur:20260310T090000
DTEND;TZID=Asia/Kuala_Lumpur:20260310T170000
DTSTAMP:20260425T115438
CREATED:20260309T070309Z
LAST-MODIFIED:20260309T070309Z
UID:5342-1773133200-1773162000@bukitrayadalam.nadi.my
SUMMARY:DILEA : VIDEO REVISION
DESCRIPTION:
URL:https://bukitrayadalam.nadi.my/event/dilea-video-revision/
END:VEVENT
BEGIN:VEVENT
DTSTART;TZID=Asia/Kuala_Lumpur:20260309T090000
DTEND;TZID=Asia/Kuala_Lumpur:20260309T170000
DTSTAMP:20260425T115438
CREATED:20260309T070406Z
LAST-MODIFIED:20260309T070406Z
UID:5346-1773046800-1773075600@bukitrayadalam.nadi.my
SUMMARY:RAMADAN@NADI : Mahir Jahit – Alteration: Besar Jadi Muat\,  Kecil Jadi Selesa
DESCRIPTION:
URL:https://bukitrayadalam.nadi.my/event/ramadannadi-mahir-jahit-alteration-besar-jadi-muat-kecil-jadi-selesa/
END:VEVENT
BEGIN:VEVENT
DTSTART;TZID=Asia/Kuala_Lumpur:20260309T090000
DTEND;TZID=Asia/Kuala_Lumpur:20260309T170000
DTSTAMP:20260425T115438
CREATED:20260309T070231Z
LAST-MODIFIED:20260309T070231Z
UID:5340-1773046800-1773075600@bukitrayadalam.nadi.my
SUMMARY:Sihat Ramadan : Short tips Cara Tepat Timbang berat dan pinggang
DESCRIPTION:
URL:https://bukitrayadalam.nadi.my/event/sihat-ramadan-short-tips-cara-tepat-timbang-berat-dan-pinggang/
END:VEVENT
BEGIN:VEVENT
DTSTART;TZID=Asia/Kuala_Lumpur:20260309T090000
DTEND;TZID=Asia/Kuala_Lumpur:20260309T170000
DTSTAMP:20260425T115438
CREATED:20260309T070207Z
LAST-MODIFIED:20260309T070207Z
UID:5338-1773046800-1773075600@bukitrayadalam.nadi.my
SUMMARY:DILEA : OPEN TUITION SEJARAH
DESCRIPTION:
URL:https://bukitrayadalam.nadi.my/event/dilea-open-tuition-sejarah-2/
END:VEVENT
BEGIN:VEVENT
DTSTART;TZID=Asia/Kuala_Lumpur:20260309T080000
DTEND;TZID=Asia/Kuala_Lumpur:20260309T170000
DTSTAMP:20260425T115438
CREATED:20260304T060621Z
LAST-MODIFIED:20260304T060621Z
UID:5311-1773043200-1773075600@bukitrayadalam.nadi.my
SUMMARY:Peraturan\, Penalti & Fair Play Dalam MLBB
DESCRIPTION:
URL:https://bukitrayadalam.nadi.my/event/peraturan-penalti-fair-play-dalam-mlbb-4/
END:VEVENT
BEGIN:VEVENT
DTSTART;TZID=Asia/Kuala_Lumpur:20260308T090000
DTEND;TZID=Asia/Kuala_Lumpur:20260308T170000
DTSTAMP:20260425T115438
CREATED:20260308T010111Z
LAST-MODIFIED:20260308T010111Z
UID:5325-1772960400-1772989200@bukitrayadalam.nadi.my
SUMMARY:DILEA : OPEN TUITION: SEJARAH
DESCRIPTION:
URL:https://bukitrayadalam.nadi.my/event/dilea-open-tuition-sejarah/
END:VEVENT
END:VCALENDAR